BEGIN:VCALENDAR
VERSION:2.0
PRODID:Imitheme.com 
BEGIN:VEVENT
UID:20260422T142318424186767
DTSTAMP;TZID=UTC:2026-04-22 14:23:18
DTSTART;TZID=America/Los_Angeles:20260422T142318
DTEND;TZID=America/Los_Angeles:20260422T142318
SUMMARY:Holy Ghost Service
LOCATION:
DESCRIPTION:
URL:https://rccgsopnj.org/eventer/holy-ghost-service/
END:VEVENT
END:VCALENDAR
