BEGIN:VCALENDAR
VERSION:2.0
PRODID:Imitheme.com 
BEGIN:VEVENT
UID:20260422T1426021179238089
DTSTAMP;TZID=UTC:2026-04-22 14:26:02
DTSTART;TZID=America/Los_Angeles:20260422T142602
DTEND;TZID=America/Los_Angeles:20260422T142602
SUMMARY:Holy Ghost Service
LOCATION:
DESCRIPTION:
URL:https://rccgsopnj.org/eventer/holy-ghost-service/
END:VEVENT
END:VCALENDAR
