BEGIN:VCALENDAR
VERSION:2.0
PRODID:Imitheme.com 
BEGIN:VEVENT
UID:20260422T174912725849738
DTSTAMP;TZID=UTC:2026-04-22 17:49:12
DTSTART;TZID=America/Los_Angeles:20260422T174912
DTEND;TZID=America/Los_Angeles:20260422T174912
SUMMARY:Holy Ghost Service
LOCATION:
DESCRIPTION:
URL:https://rccgsopnj.org/eventer/holy-ghost-service/
END:VEVENT
END:VCALENDAR
