BEGIN:VCALENDAR
VERSION:2.0
PRODID:Imitheme.com 
BEGIN:VEVENT
UID:20260422T174738448412017
DTSTAMP;TZID=UTC:2026-04-22 17:47:38
DTSTART;TZID=America/Los_Angeles:20260422T174738
DTEND;TZID=America/Los_Angeles:20260422T174738
SUMMARY:Holy Ghost Service
LOCATION:
DESCRIPTION:
URL:https://rccgsopnj.org/eventer/holy-ghost-service/
END:VEVENT
END:VCALENDAR
