BEGIN:VCALENDAR
VERSION:2.0
PRODID:Imitheme.com 
BEGIN:VEVENT
UID:20260422T192458642008917
DTSTAMP;TZID=UTC:2026-04-22 19:24:58
DTSTART;TZID=America/Los_Angeles:20260422T192458
DTEND;TZID=America/Los_Angeles:20260422T192458
SUMMARY:Holy Ghost Service
LOCATION:
DESCRIPTION:
URL:https://rccgsopnj.org/eventer/holy-ghost-service/
END:VEVENT
END:VCALENDAR
