BEGIN:VCALENDAR
VERSION:2.0
PRODID:Imitheme.com 
BEGIN:VEVENT
UID:20260422T1923351951097734
DTSTAMP;TZID=UTC:2026-04-22 19:23:35
DTSTART;TZID=America/Los_Angeles:20260422T192335
DTEND;TZID=America/Los_Angeles:20260422T192335
SUMMARY:Holy Ghost Service
LOCATION:
DESCRIPTION:
URL:https://rccgsopnj.org/eventer/holy-ghost-service/
END:VEVENT
END:VCALENDAR
