BEGIN:VCALENDAR
VERSION:2.0
PRODID:Imitheme.com 
BEGIN:VEVENT
UID:20260422T2050151420435111
DTSTAMP;TZID=UTC:2026-04-22 20:50:15
DTSTART;TZID=America/Los_Angeles:20260422T205015
DTEND;TZID=America/Los_Angeles:20260422T205015
SUMMARY:Holy Ghost Service
LOCATION:
DESCRIPTION:
URL:https://rccgsopnj.org/eventer/holy-ghost-service/
END:VEVENT
END:VCALENDAR
