BEGIN:VCALENDAR
VERSION:2.0
PRODID:Imitheme.com 
BEGIN:VEVENT
UID:20260422T204745837467189
DTSTAMP;TZID=UTC:2026-04-22 20:47:45
DTSTART;TZID=America/Los_Angeles:20260422T204745
DTEND;TZID=America/Los_Angeles:20260422T204745
SUMMARY:Holy Ghost Service
LOCATION:
DESCRIPTION:
URL:https://rccgsopnj.org/eventer/holy-ghost-service/
END:VEVENT
END:VCALENDAR
