BEGIN:VCALENDAR
VERSION:2.0
PRODID:Imitheme.com 
BEGIN:VEVENT
UID:20260422T1928481990478204
DTSTAMP;TZID=UTC:2026-04-22 19:28:48
DTSTART;TZID=America/Los_Angeles:20260422T192848
DTEND;TZID=America/Los_Angeles:20260422T192848
SUMMARY:Holy Ghost Service
LOCATION:
DESCRIPTION:
URL:https://rccgsopnj.org/eventer/holy-ghost-service/
END:VEVENT
END:VCALENDAR
