BEGIN:VCALENDAR
VERSION:2.0
PRODID:Imitheme.com 
BEGIN:VEVENT
UID:20260422T19351647152101
DTSTAMP;TZID=UTC:2026-04-22 19:35:16
DTSTART;TZID=America/Los_Angeles:20260422T193516
DTEND;TZID=America/Los_Angeles:20260422T193516
SUMMARY:Holy Ghost Service
LOCATION:
DESCRIPTION:
URL:https://rccgsopnj.org/eventer/holy-ghost-service/
END:VEVENT
END:VCALENDAR
