BEGIN:VCALENDAR
VERSION:2.0
PRODID:Imitheme.com 
BEGIN:VEVENT
UID:20260422T193317518645805
DTSTAMP;TZID=UTC:2026-04-22 19:33:17
DTSTART;TZID=America/Los_Angeles:20260422T193317
DTEND;TZID=America/Los_Angeles:20260422T193317
SUMMARY:Holy Ghost Service
LOCATION:
DESCRIPTION:
URL:https://rccgsopnj.org/eventer/holy-ghost-service/
END:VEVENT
END:VCALENDAR
